BEGIN:VCALENDAR
VERSION:2.0
PRODID:http://www.sankt-jodokus.de
BEGIN:VEVENT
UID:7f9d7214-3c9e-11f1-a3e9-0242ac11002b-1780524000000-de
DTSTAMP:20260420T095126Z
DTSTART:20260603T220000Z
DTEND:20260604T220000Z
SUMMARY;LANGUAGE=de:Herzliche Einladung zur Mitfeier des Fronleichnamsfestes
DESCRIPTION;LANGUAGE=de:Auch in diesem Jahr vertrauen wir wieder auf gutes Wetter und feiern am Fronleichnamstag die Festmesse und die Prozession am Freialtar bei St. Jost. Wir versuchen\, aus den Erfahrungen der Vorjahre zu lernen und die Rahmenbedingungen immer weiter zu verbessern. In dem Sinn wollen wir dieses Jahr für mehr Pavillons sorgen\, damit wir vor Regen\, aber auch zu viel Sonne besser geschützt sind. Natürlich setzen wir die schöne Tradition fort\, uns nach dem Gottesdienst im Schatten der St. Jodokus-Kapelle zu Kaffee und Kuchen\, warmen und kalten Getränken zusammenzusetzen.
IMAGE;VALUE=URI;DISPLAY=BADGE;FMTTYPE=image/jpeg:http://www.sankt-jodokus.de/export/sites/pfarreien/pfarrei-langenfeld-st.-jodokus/.galleries/bilder/2026-06-04-Fronleichnam-St-Jost-1.jpg
END:VEVENT
END:VCALENDAR
